BEGIN:VCALENDAR
VERSION:2.0
PRODID:-//ChamberMaster//Event Calendar 2.0//EN
METHOD:PUBLISH
X-PUBLISHED-TTL:P3D
REFRESH-INTERVAL:P3D
CALSCALE:GREGORIAN
BEGIN:VEVENT
DTSTART;VALUE=DATE:20110822
DTEND;VALUE=DATE:20110823
TRANSP:TRANSPARENT
X-MICROSOFT-CDO-ALLDAYEVENT:TRUE
SUMMARY:21st Annual "Fore Your Health" Golf Outing
DESCRIPTION:Join us for a day of golf at beautiful Haverhill Country Club.7:30 AM - $150 per player includes greens fees\, cart\, luncheon\, gifts and prizes.1:30 PM - $225 per player includes greens fees\, cart\, dinner\, gifts and prizes. Add a VIP Gold Card for $40 and receive express VIP registration: 2 mulligans\, 10 raffle tickets\, entry into 50/50 Casino Hole and Beat-the-Pro.Great Raffle Prizes and Silent Auction. Proceeds to benefit the Cardiovascular Ultrasound equipment\, to be used in the diagnosis of heart disease.
X-ALT-DESC;FMTTYPE=text/html:Join us for a day of golf at beautiful Haverhill Country Club.7:30 AM - $150 per player includes greens fees\, cart\, luncheon\, gifts and prizes.1:30 PM - $225 per player includes greens fees\, cart\, dinner\, gifts and prizes. Add a VIP Gold Card for $40 and receive express VIP registration: 2 mulligans\, 10 raffle tickets\, entry into 50/50 Casino Hole and Beat-the-Pro.Great Raffle Prizes and Silent Auction. Proceeds to benefit the Cardiovascular Ultrasound equipment\, to be used in the diagnosis of heart disease.
LOCATION:Haverhill Golf & Country Club 58 Bricket Lane Haverhill
UID:e.1189.2063
SEQUENCE:3
DTSTAMP:20260419T225724Z
URL:https://business.newburyportchamber.org/events/details/21st-annual-fore-your-health-golf-outing-08-22-2011-2063
END:VEVENT

END:VCALENDAR
