BEGIN:VCALENDAR
VERSION:2.0
PRODID:-//ChamberMaster//Event Calendar 2.0//EN
METHOD:PUBLISH
X-PUBLISHED-TTL:P3D
REFRESH-INTERVAL:P3D
CALSCALE:GREGORIAN
BEGIN:VEVENT
DTSTART:20090629T040000Z
DTEND:20090629T040000Z
X-MICROSOFT-CDO-ALLDAYEVENT:FALSE
SUMMARY:2009 Golf Tournament
DESCRIPTION:20th Annual Golf Tournament\nAbenaqui Country Club\nMonday\, June 29\, 2009\n1pm Shotgun Start\n\nSpace is limited to 144 golfers\, singles and groups are welcomed!  Registration is $225 per golfer.\n\nInterested in Sponsoring?  Opportunities include:\n- Hole Contest Sponsor $2\,000\n- Scorecard Sponsor $1\,000\n- Bag Valet Sponsor $1\,000\n- Driving Range Sponsor $500\n- Photo Sponsor $500\n- Hole Sponsor $175
X-ALT-DESC;FMTTYPE=text/html:<P><SPAN class=style1><STRONG><FONT face=Arial size=2>20th Annual Golf Tournament</FONT></STRONG></SPAN><STRONG><BR class=style1></STRONG><FONT face=Arial><FONT size=2><SPAN class=style1>Abenaqui Country Club<BR>Monday\, June 29\, 2009<BR>1pm Shotgun Start</SPAN><BR class=style1><BR class=style1><SPAN class=style1>Space is limited to 144 golfers\, singles and groups are welcomed!&nbsp\; </SPAN><SPAN class=style1>Registration is $225 per golfer.</SPAN><BR class=style1><BR class=style1><SPAN class=style1>Interested in Sponsoring?&nbsp\; Opportunities include:</SPAN><BR class=style1><SPAN class=style1>- Hole Contest Sponsor $2\,000</SPAN><BR class=style1><SPAN class=style1>- Scorecard Sponsor $1\,000</SPAN><BR class=style1><SPAN class=style1>- Bag Valet Sponsor $1\,000</SPAN><BR class=style1><SPAN class=style1>- Driving Range Sponsor $500</SPAN><BR class=style1><SPAN class=style1>- Photo Sponsor $500</SPAN><BR class=style1><SPAN class=style1>- Hole Sponsor $175</SPAN></FONT></FONT></P>
LOCATION:Abenaqui Country Club
UID:e.1189.1221
SEQUENCE:3
DTSTAMP:20260421T231408Z
URL:https://business.newburyportchamber.org/events/details/2009-golf-tournament-06-29-2009-1221
END:VEVENT

END:VCALENDAR
