BEGIN:VCALENDAR
VERSION:2.0
PRODID:-//ChamberMaster//Event Calendar 2.0//EN
METHOD:PUBLISH
X-PUBLISHED-TTL:P3D
REFRESH-INTERVAL:P3D
CALSCALE:GREGORIAN
BEGIN:VEVENT
DTSTART:20111022T220000Z
DTEND:20111023T020000Z
X-MICROSOFT-CDO-ALLDAYEVENT:FALSE
SUMMARY:17th Annual MRFRS Fur Ball
DESCRIPTION:Help raise funds for the Merrimack River Feline Rescue Society athe 17th Annual Fur Ball.\n\nSilent and live auctions hosted by Randy Price of Channel 5 News.  Gourmet appetizers - Cash bar
X-ALT-DESC;FMTTYPE=text/html:Help raise funds for the Merrimack River Feline Rescue Society athe 17th Annual Fur Ball.<br />\nSilent and live auctions hosted by Randy Price of Channel 5 News.&nbsp\; Gourmet appetizers - Cash bar
LOCATION:Blue Ocean Music Hall 4 Ocean Front North Salisbury
UID:e.1189.2320
SEQUENCE:3
DTSTAMP:20260419T191634Z
URL:https://business.newburyportchamber.org/events/details/17th-annual-mrfrs-fur-ball-10-22-2011-2320
END:VEVENT

END:VCALENDAR
