BEGIN:VCALENDAR
VERSION:2.0
PRODID:-//ChamberMaster//Event Calendar 2.0//EN
METHOD:PUBLISH
X-PUBLISHED-TTL:P3D
REFRESH-INTERVAL:P3D
CALSCALE:GREGORIAN
BEGIN:VEVENT
DTSTART;VALUE=DATE:20110920
DTEND;VALUE=DATE:20110921
TRANSP:TRANSPARENT
X-MICROSOFT-CDO-ALLDAYEVENT:TRUE
SUMMARY:14th Annual Golf Classic
DESCRIPTION:American Red Cross of Northeast MA's 14th Annual Golf Classic: Join us at Turner Hill in Ipswich   highly acclaimed golf course\, live and silent auctions\, awards\, and more! Bring spouse or friend for dinner & auction only! Event supports disaster victims in our community. To register or to be a sponsor\, please call 978.922.2224 or visit: www.northeastmassredcross.org for info.
X-ALT-DESC;FMTTYPE=text/html:<p>\n	<span lang="EN">American Red Cross of Northeast MA&rsquo\;s 14th Annual Golf Classic: Join us at Turner Hill in Ipswich &ndash\; highly acclaimed golf course\, live and silent auctions\, awards\, and more! Bring spouse or friend for dinner &amp\; auction only! Event supports disaster victims in our community. To register or to be a sponsor\, please call 978.922.2224 or visit: </span><a href="https://secure2.chambermaster.com/directory/jsp/dialogs/www.northeastmassredcross.org"><u><font color="#0000ff" size="2"><font color="#0000ff" size="2"><span lang="EN">www.northeastmassredcross.org</span></font></font></u></a><font size="2"><span lang="EN"> for info.</span></font></p>\n
LOCATION:Turner Hill in Ipswich
UID:e.1189.2119
SEQUENCE:3
DTSTAMP:20260419T211015Z
URL:https://business.newburyportchamber.org/events/details/14th-annual-golf-classic-09-20-2011-2119
END:VEVENT

END:VCALENDAR
