BEGIN:VCALENDAR
VERSION:2.0
PRODID:-//ChamberMaster//Event Calendar 2.0//EN
METHOD:PUBLISH
X-PUBLISHED-TTL:P3D
REFRESH-INTERVAL:P3D
CALSCALE:GREGORIAN
BEGIN:VEVENT
DTSTART:20110730T150000Z
DTEND:20110730T200000Z
X-MICROSOFT-CDO-ALLDAYEVENT:FALSE
SUMMARY:11th Annual Kitchen Tour
DESCRIPTION:Please join us for this exciting annual event where you can visit10 fabulous \n\n	kitchens and support the Newburyport Public Schools at the same time!  Kitchens are chosen for style\, function and originality\, so you're sure to find lots of features to ponder. Whether you're planning for your own renovation or update project\, or just like to see beautiful kitchens\, this event is sure to please.
X-ALT-DESC;FMTTYPE=text/html:<div>\n	<span style="font-size: 14px"><font color="#808285" face="Century Gothic\, Futura\, Sans-Serif"><span style="font-size: 14px"><font color="#808285" face="Century Gothic\, Futura\, Sans-Serif">Please join us for this exciting annual event where&nbsp\;you ca</font></span>n&nbsp\;visit10&nbsp\;fabulous&nbsp\;<br />\n	kitchens&nbsp\;and support the Newburyport Public Schools at the same time!&nbsp\; Kitchens are chosen for style\, function and originality\, so you&#39\;re sure to find lots of features to ponder. Whether you&#39\;re planning for your own renovation or update project\, or just like to see beautiful kitchens\, this event is sure to please.</font></span></div>\n
LOCATION:Various Locations
UID:e.1189.1990
SEQUENCE:3
DTSTAMP:20260420T001749Z
URL:https://business.newburyportchamber.org/events/details/11th-annual-kitchen-tour-07-30-2011-1990
END:VEVENT

END:VCALENDAR
