BEGIN:VCALENDAR
VERSION:2.0
PRODID:-//ChamberMaster//Event Calendar 2.0//EN
METHOD:PUBLISH
X-PUBLISHED-TTL:P3D
REFRESH-INTERVAL:P3D
CALSCALE:GREGORIAN
BEGIN:VEVENT
DTSTART:20111026T213000Z
DTEND:20111026T233000Z
X-MICROSOFT-CDO-ALLDAYEVENT:FALSE
SUMMARY:10th Annual Halloween Mixer at Cameron Office Products
DESCRIPTION:Cameron Office Products' 10th Annual Halloween Mixer\n\n\n\nJoin fellow chamber members from both Newburyport and Amesbury for this annual joint Halloween Mixer. Your host Dennis Cameron invites you to get ghoulish and dress in your scariest costume! Have your tarot cards read\, dance to the tunes of a live DJ and do a little Scaryoke! \n\n\n\nMunchies  *  Donation bar  *  Raffles \n\nPrizes for best costumes!
X-ALT-DESC;FMTTYPE=text/html:<span style="color: #ff8c00"><span style="font-size: 14px"><strong>Cameron Office Products&#39\; 10th Annual Halloween Mixer</strong></span></span><br />\n<br />\n<span style="font-size: 14px">Join fellow chamber members from both Newburyport&nbsp\;and Amesbury for this annual joint Halloween Mixer. Your host Dennis Cameron invites you to get ghoulish and dress in your scariest costume!&nbsp\;Have your tarot cards read\, dance to the tunes of a live DJ and do a little Scaryoke!&nbsp\;<br />\n<br />\nMunchies&nbsp\; *&nbsp\; Donation bar&nbsp\; *&nbsp\; Raffles&nbsp\;<br />\nPrizes for best costumes!</span><br />\n<br />\n
LOCATION:Cameron Office Products Water Street Amesbury\, MA Elm Street to downtown Amesbury. Left onto Water just before the rotary.
UID:e.1189.2250
SEQUENCE:3
DTSTAMP:20260419T191954Z
URL:https://business.newburyportchamber.org/events/details/10th-annual-halloween-mixer-at-cameron-office-products-10-26-2011-2250
END:VEVENT

END:VCALENDAR
