BEGIN:VCALENDAR
VERSION:2.0
PRODID:-//ChamberMaster//Event Calendar 2.0//EN
METHOD:PUBLISH
X-PUBLISHED-TTL:P3D
REFRESH-INTERVAL:P3D
CALSCALE:GREGORIAN
BEGIN:VEVENT
DTSTART:20110724T000000Z
DTEND:20110724T020000Z
X-MICROSOFT-CDO-ALLDAYEVENT:FALSE
SUMMARY:10-for-20 Concert Series
DESCRIPTION:Artist - TBA
X-ALT-DESC;FMTTYPE=text/html:Artist - TBA
LOCATION:Firehouse Center for the Arts Market Square Newburyport
UID:e.1189.1980
SEQUENCE:3
DTSTAMP:20260420T002249Z
URL:https://business.newburyportchamber.org/events/details/10-for-20-concert-series-07-23-2011-1980
END:VEVENT

END:VCALENDAR
